BEGIN:VCALENDAR
VERSION:2.0
X-WR-TIMEZONE:Europe/Paris
PRODID:-//Audencia//NONSGML v1.0//EN
CALSCALE:GREGORIAN
BEGIN:VEVENT
SUMMARY:Club Culture & Management - Les cartes de la propriété intellectuelle rebattues
DTSTART:20201118T190000
DTEND:20201118T200000
UID:812
DTSTAMP:20260425T210006
LOCATION:
DESCRIPTION:Musées, opéras, spectacles, mangas, films... La crise sanitaire a fait sauter le verrou, déjà fragile, de la gratuité des contenus. L'accès libre et illimité peut-il perdurer ? Quel est son impact réel ?\n\n\nAlors que la Directive Copyright tente d'organiser une obligation de juste rémunération des auteurs, comment rémunérer les ayants droits si la Culture devient un produit totalement gratuit ?\n\n\nVenez en débattre avec nos intervenants parmi lesquels :\n\n\n	\n	Anne-Charlotte Jeancard, Directrice des Affaires Juridiques et Internationales chez ADAMI\n	\n	\n	Marc Le Roy, Docteur en droit, Spécialiste du droit des médias, Chargé d'enseignement à l'université et auteur d'ouvrage spécialisés, contributeur pour la France au sein de L'observatoire européen de l'audiovisuel\n	\n\n\n \n\nEn savoir plus et réserver\n\n \n\nMODALITÉS PRATIQUES :\n\n\n	\n	Le webinaire démarre à 19h\n	\n	\n	Après inscription, vous recevrez un lien Zoom pour vous connecter au webinaire\n	\n	\n	Il y aura un temps pour poser des questions aux intervenants après le débat\n	\n	\n	Tarif unique à 10€\n	\n\n\n\nAu plaisir de vous retrouver en ligne,\nL'équipe du Club Culture & Management
BEGIN:VALARM
ACTION:DISPLAY
TRIGGER:-PT60M
DESCRIPTION:Club Culture & Management - Les cartes de la propriété intellectuelle rebattues
END:VALARM
END:VEVENT
END:VCALENDAR