BEGIN:VCALENDAR
VERSION:2.0
X-WR-TIMEZONE:Europe/Paris
PRODID:-//Audencia//NONSGML v1.0//EN
CALSCALE:GREGORIAN
BEGIN:VEVENT
SUMMARY:WEBINAR : Changer de job - Comment faire et pourquoi ?
DTSTART:20201104T123000
DTEND:20201104T133000
UID:811
DTSTAMP:20260425T210046
LOCATION:
DESCRIPTION:70% des cadres qui changent de job font un gap en salaire. (source APEC)\n\nTu veux en faire partie ?\n\nJOB4 vous donne RDV le mercredi 4 novembre 12h30 pour un webinar de folie avec NicolasFournier, CEO & Founder de JOB4 et Cécile Salama, Team Leader !  \n\nAu programme :\n\n\n	Les grandes questions à se poser avant de se lancer !\n	Nos tips pour trouver ton nouveau job\n	Toutes les étapes pour passez à l’action\n	Questions & Réponses \n\n\nJe m'inscris 
BEGIN:VALARM
ACTION:DISPLAY
TRIGGER:-PT60M
DESCRIPTION:WEBINAR : Changer de job - Comment faire et pourquoi ?
END:VALARM
END:VEVENT
END:VCALENDAR