BEGIN:VCALENDAR
VERSION:2.0
X-WR-TIMEZONE:Europe/Paris
PRODID:-//Audencia//NONSGML v1.0//EN
CALSCALE:GREGORIAN
BEGIN:VEVENT
SUMMARY:Chapter Nantes - Online Get Together
DTSTART:20201112T183000
DTEND:20201112T194500
UID:810
DTSTAMP:20260425T205722
LOCATION:
DESCRIPTION:Chapter Nantes - Soirée Réseau - en ligne \n \n\nLa «distanciation sociale» actuelle est nécessaire mais nos événements censés se dérouler en personne sont annulés.\n\nNotre objectif est de rester connecté et de briser le silence...\n\nVous utilisez vos appareils mobiles, les réseaux sociaux et tout un tas d'applications dans votre vie de tous les jours...\n\nVenez partager ce moment convivial le 12 novembre à 18h30 avec Alexandra, Avneet, Claire et Hélène, vos ambassadrices du Chapter Nantais.\n\nInstallez vous confortablement avec votre boisson préférée et laissez vous porter!\n\nA très vite,\nVos ambassadrices.\n \n\nPour rejoindre cette soirée virtuelle,\nconnectez-vous à la réunion Microsoft Teams en cliquant ici.\n\n\nPour en savoir plus | Options de réunion\n\n 
BEGIN:VALARM
ACTION:DISPLAY
TRIGGER:-PT60M
DESCRIPTION:Chapter Nantes - Online Get Together
END:VALARM
END:VEVENT
END:VCALENDAR