BEGIN:VCALENDAR
VERSION:2.0
X-WR-TIMEZONE:Europe/Paris
PRODID:-//Audencia//NONSGML v1.0//EN
CALSCALE:GREGORIAN
BEGIN:VEVENT
SUMMARY:Alumni afterwork in Shanghai, China
DTSTART:20170920T200000
DTEND:20170920T220000
UID:81
DTSTAMP:20260425T205855
LOCATION:Le Cafe des Stagiaires 158 Julu Lu, Datong Mill, 1/F, near Ruijin Yilu， Shanghai, 巨鹿路158号大同坊一楼，近瑞金一路， 上海
DESCRIPTION:Come and join alumni in Shanghai for an informal afterwork meeting on Wednesday 20th September.\n\nWe will be at le Café des Stagiaires from 8.00pm.\n\nLooking forward to seeing you there!
BEGIN:VALARM
ACTION:DISPLAY
TRIGGER:-PT60M
DESCRIPTION:Alumni afterwork in Shanghai, China
END:VALARM
END:VEVENT
END:VCALENDAR