BEGIN:VCALENDAR
VERSION:2.0
X-WR-TIMEZONE:Europe/Paris
PRODID:-//Audencia//NONSGML v1.0//EN
CALSCALE:GREGORIAN
BEGIN:VEVENT
SUMMARY:"Refonder les pratiques des agences de communication : les jeunes pros en agences ont la parole" - Soirée d'échanges
DTSTART:20201022T183000
DTEND:20201022T203000
UID:809
DTSTAMP:20260426T001748
LOCATION:
DESCRIPTION: \nJeunes pros en agences : \n\ncette soirée COM-ENT vous est dédiée !\nCette proposition s'effectue dans le cadre du partenariat entre COM-ENT et Audencia SciencesCom.\n\n\n\nLes révélations qui se succèdent depuis 2 ans, et en particulier ces derniers jours sur @balancetonagency, témoignent de défaillances dans les agences de publicité et de communication.\nSi le harcèlement et les violences sexistes en constituent les versions les plus exacerbées, d’autres manquements sont pointés du doigt. Surcharge de travail, pratiques managériales dysfonctionnelles, immaturité des programmes de développement des compétences, prise en charge des stagiaires, déficit de sens constituent autant de critiques récurrentes des talents vis-à-vis des agences.\n \nJeunes pros en agences : COM-ENT vous propose de participer à une soirée « parole libre » durant laquelle vous pourrez faire état de vos vécus, et de vos attentes en termes de pratiques et de culture des agences.\n \nCette soirée sera complétée par plusieurs focus groups avec des étudiant·es en dernière année de communication et par une série d’auditions publiques dans les prochaines semaines. L’objectif : construire et mettre en œuvre un plan d’actions pour renouer avec la confiance et l’attractivité des agences.\n \nUne soirée COM-ENT, opérée par les agences adhérentes Mots-Clés et Occurrence, et le cabinet Spike.\n \n\nSoirée en ligne gratuite \nsur inscription sur bit.ly/3j4tUQ0\n\n\n\nProgramme de la soirée :\n\n\n	Introduction par Séverine Lecomte, Présidente de COM-ENT\n	Discussion libre avec les personnes inscrites animée par Raphaël Haddad, Secrétaire général de COM-ENT.\n\nVous voulez témoigner anonymement ? Coupez votre caméra avant de vous connecter et/ou téléchargez le modulateur de voix et sélectionnez la voix “Darth Vader” avant de prendre la parole. Votre voix sera automatique et directement transformée dès que vous prendrez la parole.\n\n\n \n\n
BEGIN:VALARM
ACTION:DISPLAY
TRIGGER:-PT60M
DESCRIPTION:"Refonder les pratiques des agences de communication : les jeunes pros en agences ont la parole" - Soirée d'échanges
END:VALARM
END:VEVENT
END:VCALENDAR