BEGIN:VCALENDAR
VERSION:2.0
X-WR-TIMEZONE:Europe/Paris
PRODID:-//Audencia//NONSGML v1.0//EN
CALSCALE:GREGORIAN
BEGIN:VEVENT
SUMMARY:Club Finance - La comptabilité de demain avec Dr Delphine Gibassier
DTSTART:20201112T190000
DTEND:20201112T200000
UID:808
DTSTAMP:20260425T205840
LOCATION:
DESCRIPTION:Dans un monde post-pandémique, nous avons besoin d'une comptabilité radicalement différente pour valoriser la performance des entreprises.\n\nDelphine Gibassier, enseignante-chercheuse à Audencia affirme que le modèle du "Donut" de Kate Raworth, adopté par Amsterdam et par la France pour son rapport développement durable 2019, montre comment les entreprises peuvent rester dans les limites planétaires et sociales.\n\nDepuis plus de 50 ans, de nombreux acteurs de la profession comptable, mais pas seulement, appellent à un changement dans la manière dont nous rendons compte de la performance et de la création de valeur. Un grand pas en avant a été franchi lorsque le reporting intégré a été testé, rédigé et publié entre 2010 et 2013.\n\nPourquoi la comptabilité multi-capital deviendrait-elle encore plus cruciale maintenant qu'il y a quelques mois ? Quelles sont les caractéristiques clés qui sont demandées à la nouvelle comptabilité que toutes les organisations, et pas seulement une poignée, devraient mettre en œuvre ?\n\nNous vous invitons à découvrir, à travers ce webinaire à quoi ressemblera la comptabilité de demain le jeudi 12 novembre de 19h à 20h.\n \n\nLes inscriptions sont closes.\nLe lien Teams pour rejoindre à ce webinar : https://bit.ly/3png7IH
BEGIN:VALARM
ACTION:DISPLAY
TRIGGER:-PT60M
DESCRIPTION:Club Finance - La comptabilité de demain avec Dr Delphine Gibassier
END:VALARM
END:VEVENT
END:VCALENDAR