BEGIN:VCALENDAR
VERSION:2.0
X-WR-TIMEZONE:Europe/Paris
PRODID:-//Audencia//NONSGML v1.0//EN
CALSCALE:GREGORIAN
BEGIN:VEVENT
SUMMARY:Club Finance et FiPlus - Webinar « La révolution de l’Immatériel »
DTSTART:20201029T180000
DTEND:20201029T190000
UID:807
DTSTAMP:20260425T205855
LOCATION:
DESCRIPTION:Selon de multiples études, l’immatériel constitue la majeure partie de la valeur d’une entreprise. Développer ce capital immatériel est donc une formidable source de création de valeur.\n\n \n\nQuelles sont les caractéristiques de ce capital immatériel et comment le faire croître ? Par ailleurs, dans le contexte 2020 (crise sanitaire et économique, loi PACTE, …) quel intérêt d’investir dans les actifs immatériels, et quels liens avec la raison d’être de l’entreprise ?\n\n \n\nCaroline Nunney et Jérôme Julia vous proposent quelques clés de réflexion novatrices et illustrations issues de leur expérience. Venez débattre avec eux !\n\n \n\nLes intervenants:\n\nJérôme Julia, est Senior Partner du cabinet Kea – 1er cabinet Européen de Conseil en Stratégie à devenir Société à Mission. Professeur vacataire à HEC, Jérôme Julia donne aussi des cours à l’ESSEC et à la Toulouse Business School. Conférencier, il intervient dans de multiples conférences, en France et à l’étranger. Enfin, Jérôme Julia est Président de l’Observatoire de l’immatériel depuis 2014, où il anime une communauté d’acteurs économiques, universitaires et politiques, avec lesquels il promeut une vision ambitieuse d’un modèle d’entreprise européenne durable. Il a publié plusieurs ouvrages sur le sujet, dont le dernier : « L’immatériel, révolution silencieuse » (éd. Ilots de Résistance, 2020)\n\n \n\nCaroline Nunney est Fondatrice Dirigeante du cabinet P4P (Purpose 4 Performance). 25 ans d’expérience au sein des Directions Financières d’entreprises mission ont forgé sa conviction qu’une raison d’être inspirante et incarnée est un vrai capital de création de valeur et de performance pour les entreprises. Après avoir traité ce sujet dans son mémoire d’Executive MBA à l’EM Lyon consacré à « La Raison d’être – levier stratégique de performance » en 2019, elle met aujourd’hui ses compétences au service des dirigeants et de leurs équipes pour révéler la raison d’être de leur organisation et accompagner son évolution vers l’entreprise à mission. Caroline est également ambassadrice FiPlus et AFR (Acteurs de la Finance Responsable) et associée Time for the Planet.\n\nINSCRIPTIONS ICI
BEGIN:VALARM
ACTION:DISPLAY
TRIGGER:-PT60M
DESCRIPTION:Club Finance et FiPlus - Webinar « La révolution de l’Immatériel »
END:VALARM
END:VEVENT
END:VCALENDAR