BEGIN:VCALENDAR
VERSION:2.0
X-WR-TIMEZONE:Europe/Paris
PRODID:-//Audencia//NONSGML v1.0//EN
CALSCALE:GREGORIAN
BEGIN:VEVENT
SUMMARY:Club Culture & Management - Monétiser l'accès à la culture par le numérique, illusion ou réalité ?
DTSTART:20201014T190000
DTEND:20201014T200000
UID:806
DTSTAMP:20260425T210048
LOCATION:
DESCRIPTION:Crise ou pas crise, la culture flirte avec le numérique pour créer de nouveaux liens avec son public et la tendance est bien là. Qu’il s’agisse du phygital qui viserait à amplifier l’expérience des publics ou de l'apparition de contenus payants sur les réseaux sociaux, nous explorerons les modèles économiques émergents du digital dans la culture. \n\nLa nécessité impérieuse de renouveler son accès alors que les salles, musées et festivals avaient fermé leurs portes a-t-elle généré de nouvelles pratiques ? La monétisation de ces nouvelles formes de consommation de la culture est-elle un leurre économique ?\n \n\nAutant de questions passionnantes, dans un contexte défiant, dont nos invités exploreront les réponses. Représentants des grands réseaux sociaux, des instances culturelles gouvernementales et managers culturels vous donnent rendez-vous pour en débattre cet automne au Club Culture et Management.\n \n\nVenez débattre avec nos intervenants :\n\n\n	\n	Jean-Philippe Thiellay (Centre National de la Musique, Président)\n	\n	\n	Dan Tepfer (Pianiste, Compositeur, Codeur)\n	\n\n\n> En savoir plus et Réserver\n\n \n\nMODALITÉS PRATIQUES :\n\n\n	\n	Le webinaire démarre à 19h\n	\n	\n	Après inscription, vous recevrez un lien Zoom pour vous connecter au webinaire.\n	\n	\n	Il y aura un temps pour poser des questions aux intervenants après le débat.\n	\n	\n	Tarif unique à 10€. \n	\n\n\n\nL'équipe du Club Culture & Management\n\n\n\n\n 
BEGIN:VALARM
ACTION:DISPLAY
TRIGGER:-PT60M
DESCRIPTION:Club Culture & Management - Monétiser l'accès à la culture par le numérique, illusion ou réalité ?
END:VALARM
END:VEVENT
END:VCALENDAR