BEGIN:VCALENDAR
VERSION:2.0
X-WR-TIMEZONE:Europe/Paris
PRODID:-//Audencia//NONSGML v1.0//EN
CALSCALE:GREGORIAN
BEGIN:VEVENT
SUMMARY:Webinar: Carter Cast on avoiding & recovering from career derailment
DTSTART:20201118T193000
DTEND:20201118T203000
UID:805
DTSTAMP:20260425T210203
LOCATION:
DESCRIPTION:Join the webinar on avoiding and recovering from career derailment\n\nMore than 50% of professionals experience career derailment at some point: being fired, demoted, or told we are unpromotable.  In this webinar Carter Cast (Professor of Entrepreneurship at Kellogg School of Management) will share his research on why derailment happens, how to avoid it, and how to recover if it does.\n\nA standard tenet of career advice is to “know your strengths”.  Much less focus is put on helping us diagnose our weaknesses. Very often it is these lingering blind spots and skill gaps that trip us up when we are confronted by a new work environment or a new challenge to surmount.\n\nIn this webinar we will examine how to spot dangerous scenarios early and how to appreciate when problems are brewing.  We will discuss:\n\n	The most frequent derailment scenarios – and how to spot if we are at risk\n	Five steps we can all take to protect ourselves\n	Why increasing our self-awareness is so beneficial\n	The critical role played by seeking and acting on feedback\n	The single behaviour that most often triggers career destruction\n\nWe will also discuss the positive changes we can all make to our work – in particular taking ownership of our own learning – that will allow us to realise our full professional potential.\n\nThis live webinar is from 19:30 to 20:30 (Paris time) on Wednesday 18 November. We have free tickets for member alumni and students here:  \n \nREGISTRATION \nThere are 100 free tickets for Audencia's alumni and students\n(use code "audstudent" if ticket does not show)\n\nCarter Cast is the author of The Right (and Wrong) Stuff: How Brilliant Careers are Made - and Unmade. Carter is an award-winning professor at Northwestern University’s Kellogg School of Management where he teaches entrepreneurship, leadership and marketing. Starting his career as a marketing manager at PepsiCo, he moved on to Electronic Arts before becoming founding chief marketing officer of Blue Nile, the leading online diamond seller. Carter later went to Walmart, where he became the CEO of Walmart.com, leading the division to become the third highest volume retailer behind Amazon and eBay. http://cartercast.com\n\n\n\n\n \nAll participants receive\n\n\n	Access to the webinar and the chance to ask questions live\n	Catch-up recording of the webinar\n	A bonus materials resource pack including slides and support materials.\n\n\n \n\n\n 
BEGIN:VALARM
ACTION:DISPLAY
TRIGGER:-PT60M
DESCRIPTION:Webinar: Carter Cast on avoiding & recovering from career derailment
END:VALARM
END:VEVENT
END:VCALENDAR