BEGIN:VCALENDAR
VERSION:2.0
X-WR-TIMEZONE:Europe/Paris
PRODID:-//Audencia//NONSGML v1.0//EN
CALSCALE:GREGORIAN
BEGIN:VEVENT
SUMMARY:Forum Entreprises Audencia
DTSTART:20201014T090000
DTEND:20201015T180000
UID:804
DTSTAMP:20260425T205719
LOCATION:
DESCRIPTION:Comme chaque année, Audencia organise le Forum Entreprises, un événement qui rassemble étudiants/jeunes diplômés et entreprises pendant 2 jours. Compte tenu du contexte actuel le forum se tiendra cette année en distanciel sur une plateforme virtuelle dédiée.\n\nSur 50 entreprises présentes, 34 ont indiqué recruter des jeunes diplômés !\n\n\n	Venez consolider votre projet professionnel en (re)découvrant une diversité de métiers & de secteurs d'activité au sein de grands groupes / PME / startups / ONG\n	Venez développer votre réseau professionnel en échangeant avec des RH, opérationnels et d'autres diplômés d’Audencia \n\n\n>> Inscriptions : https://bit.ly/3diDsWx <<
BEGIN:VALARM
ACTION:DISPLAY
TRIGGER:-PT60M
DESCRIPTION:Forum Entreprises Audencia
END:VALARM
END:VEVENT
END:VCALENDAR