BEGIN:VCALENDAR
VERSION:2.0
X-WR-TIMEZONE:Europe/Paris
PRODID:-//Audencia//NONSGML v1.0//EN
CALSCALE:GREGORIAN
BEGIN:VEVENT
SUMMARY:Conférence/Débat : Antoine Auriol
DTSTART:20201001T183000
DTEND:20201001T203000
UID:803
DTSTAMP:20260425T205904
LOCATION:Audencia Atlantic Campus - 8 route de la Jonelière 44300 Nantes
DESCRIPTION:Les étudiants Isegoria sont heureux de vous inviter \nà la conférence-débat d’Antoine Auriol,\nChampion du monde de kitesurf et ambassadeur de l’écologie\nsur le thème « Entre initiatives individuelles et prise de conscience collective : comment changer les comportements à l’échelle globale ? »\n\nJe m'inscris\n\nLe premier Live Instagram proposé par Isegoria, en mai dernier, vous a fait découvrir Antoine Auriol, champion du monde de kitesurf, discipline qui allie acrobaties, glisse, créativité et sensations de liberté. Depuis 2014, il réalise des vidéos et utilise les réseaux sociaux afin de partager sa passion pour la nature. La série documentaire «  L’air du temps », tournée vers le progrès, les énergies renouvelables et la recherche de bonnes nouvelles pour la planète, illustre ses engagements. C’est avec sa casquette d’ambassadeur de l’écologie et dans un contexte de relance économique verte qu’Antoine Auriol viendra échanger le 1er octobre sur le thème : « Initiatives individuelles et prise de conscience collective : comment changer les comportements à l’échelle globale ? »\n\nRetrouvez le replay du live Instagram\n \nVous êtes tous cordialement invités à assister à cette conférence-débat en présentiel ou en distanciel,  n’hésitez pas à en faire profiter votre entourage !Évènement gratuit \nInscription obligatoire sur eventbrite : JE M'INSCRIS\nContact : events@audencia.com\n\nDans le cadre du respect des règles sanitaires, le port du masque est obligatoire. \nMerci de vous munir de votre masque, il sera nécessaire pour accéder à la conférence.
BEGIN:VALARM
ACTION:DISPLAY
TRIGGER:-PT60M
DESCRIPTION:Conférence/Débat : Antoine Auriol
END:VALARM
END:VEVENT
END:VCALENDAR