BEGIN:VCALENDAR
VERSION:2.0
X-WR-TIMEZONE:Europe/Paris
PRODID:-//Audencia//NONSGML v1.0//EN
CALSCALE:GREGORIAN
BEGIN:VEVENT
SUMMARY:Career Center Webinar - Virtual Interviews: our top tips to succeed in them!
DTSTART:20201013T180000
DTEND:20201013T193000
UID:802
DTSTAMP:20260425T223840
LOCATION:
DESCRIPTION:Today, virtual interviews are increasingly used by recruiters.\nDo you wish to ace these interviews? Do you want to understand the stakes of a remote interview in order to prepare yourself better? Whether it is a telephone interview or an online interview, the first 30 minutes with the potential employer is crucial. This webinar gives you the tools to succeed and take your performance to the next level! \n\nCome join Joanna CORNUAUD, Career Center Consultant, who will give you the tips and tricks of remote interviewing and provide you with all the key info to help you prepare your interviews and get the most out of this recruitment process.\n \nTo register, kindly send an email to tboitel@audencia.com and remember to mention the name and the date of the webinar.
BEGIN:VALARM
ACTION:DISPLAY
TRIGGER:-PT60M
DESCRIPTION:Career Center Webinar - Virtual Interviews: our top tips to succeed in them!
END:VALARM
END:VEVENT
END:VCALENDAR