BEGIN:VCALENDAR
VERSION:2.0
X-WR-TIMEZONE:Europe/Paris
PRODID:-//Audencia//NONSGML v1.0//EN
CALSCALE:GREGORIAN
BEGIN:VEVENT
SUMMARY:Webinar Career Center - Optimisez votre potentiel pour votre projet professionnel sur LinkedIn !
DTSTART:20201006T180000
DTEND:20201006T193000
UID:801
DTSTAMP:20260425T210050
LOCATION:
DESCRIPTION:Audencia Careers partage avec vous les secrets de LinkedIn pour optimiser vos chances de décrocher votre prochaine opportunité professionnelle ! :\n \n\nComment améliorer votre profil et construire un réseau efficace?\n\n\nPour en savoir plus inscrivez-vous à cet atelier pour que LinkedIn n'ai plus de secret pour vous.\n\nCette session se tiendra via Microsoft Teams - Un lien de connexion vous sera adressé le jour même.\nInscription par mail à tboitel@audencia.com en indiquant le nom de la session & la date
BEGIN:VALARM
ACTION:DISPLAY
TRIGGER:-PT60M
DESCRIPTION:Webinar Career Center - Optimisez votre potentiel pour votre projet professionnel sur LinkedIn !
END:VALARM
END:VEVENT
END:VCALENDAR