BEGIN:VCALENDAR
VERSION:2.0
X-WR-TIMEZONE:Europe/Paris
PRODID:-//Audencia//NONSGML v1.0//EN
CALSCALE:GREGORIAN
BEGIN:VEVENT
SUMMARY:Career Center Webinar - Keys to successful networking!
DTSTART:20200929T180000
DTEND:20200929T193000
UID:800
DTSTAMP:20260425T205852
LOCATION:
DESCRIPTION:Career Center Webinar - Keys to successful networking!\nDo you want to develop your network? Are you looking to become a better networker? Come join us for this webinar.\nIn this session Careers Consultant, Shyla du Cosquer will share with you simple ways in which you can improve your networking skills. She will also share with you advice by career gurus like Daniel Porot and Steve Dalton. This could be really helpful in finding a job, getting market info or changing your career.\n#careertips #careerguru #getnetworking\nTo register, kindly send an email to tboitel@audencia.com and remember to mention the name and the date of the webinar.\n 
BEGIN:VALARM
ACTION:DISPLAY
TRIGGER:-PT60M
DESCRIPTION:Career Center Webinar - Keys to successful networking!
END:VALARM
END:VEVENT
END:VCALENDAR