BEGIN:VCALENDAR
VERSION:2.0
X-WR-TIMEZONE:Europe/Paris
PRODID:-//Audencia//NONSGML v1.0//EN
CALSCALE:GREGORIAN
BEGIN:VEVENT
SUMMARY:Anniversaire de promotion Audencia SciencesCom 1987
DTSTART:20171007T203000
DTEND:20171007T230000
UID:80
DTSTAMP:20260425T205703
LOCATION:La pause café 41 rue de Charonne - 75011 Paris | 06 68 54 00 39 | 01 48 06 80 33 Lien utile : https://www.facebook.com/pages/Le-Pause-Caf%C3%A9/119760318081166
DESCRIPTION:Cher(e)s diplômé(e)s, \n\nNous sommes heureux de vous convier le samedi 7 octobre 2017 aux 30 ans de votre promotion qui auront lieu au restaurant La pause café dans le 11ème arrondissement de Paris. \n\nAu programme : retrouvailles et souvenirs autour d'un dîner convivial et décontracté.\nLe prix comprend une entrée, un plat et un dessert au choix dans la carte du restaurant ainsi que l'apéritif et le vin.\n\nPour participer à la soirée, cliquer sur s'inscrire sur together en haut à droite de l'écran.\n\nAu plaisir de vous retrouver nombreux le 07/10/2017\n\n 
BEGIN:VALARM
ACTION:DISPLAY
TRIGGER:-PT60M
DESCRIPTION:Anniversaire de promotion Audencia SciencesCom 1987
END:VALARM
END:VEVENT
END:VCALENDAR