BEGIN:VCALENDAR
VERSION:2.0
X-WR-TIMEZONE:Europe/Paris
PRODID:-//Audencia//NONSGML v1.0//EN
CALSCALE:GREGORIAN
BEGIN:VEVENT
SUMMARY:Afterwork: London chapter
DTSTART:20161019T183000
DTEND:20161019T200000
UID:8
DTSTAMP:20260425T223813
LOCATION:The Yorkshire Grey Pub & Kitchen 2 Theobalds Road London WC1X 8PN (Tel: (0207) 405 2519)
DESCRIPTION:Dear alumni,\n\nProfessor Tamim Elbasha and Katie Francois (Audencia Alumni) are coming to London. Take this opportunity to meet them for an afterwork drink at 6:30pm on Thursday 19th January at the Yorkshire Grey Pub & Kitchen, 2 Theobalds Road, London WC1X 8PN (Tel: (0207) 405 2519)\n\nThis will be a great chance for you to catch up with all the news from Audencia!
BEGIN:VALARM
ACTION:DISPLAY
TRIGGER:-PT60M
DESCRIPTION:Afterwork: London chapter
END:VALARM
END:VEVENT
END:VCALENDAR