BEGIN:VCALENDAR
VERSION:2.0
X-WR-TIMEZONE:Europe/Paris
PRODID:-//Audencia//NONSGML v1.0//EN
CALSCALE:GREGORIAN
BEGIN:VEVENT
SUMMARY:Webinar Career Center - Recrutement à distance : les clés pour réussir !
DTSTART:20200922T180000
DTEND:20200922T193000
UID:799
DTSTAMP:20260425T205727
LOCATION:
DESCRIPTION:Webinar Career Center - Recrutement à distance : les clés pour réussir !\nAujourd’hui les entretiens à distance deviennent de plus en plus utilisés par les recruteurs.\nVous souhaitez améliorer votre technique ? Comprendre les enjeux d’un entretien à distance pour mieux vous préparer ?\nQue ce soit dans le cadre d’un échange téléphonique ou d’un entretien à distance, ce premier contact de 20/30mn avec l’employeur est crucial. Ce webinar vous donne les outils pour réussir votre entretien de recrutement ! \nRencontrez Anne-Sophie BERTHELOT, consultante Career Center vous donnera les trucs et astuces de l'entretien à distance et vous apportera toutes les clés pour vous aider à préparer vos entretiens, et tirer le meilleur parti de ces e.recrutements.\n \nCette session se tiendra via Microsoft Teams - Un lien de connexion vous sera adressé le jour même.\nInscription par mail à tboitel@audencia.com en indiquant le nom de la session & la date\n 
BEGIN:VALARM
ACTION:DISPLAY
TRIGGER:-PT60M
DESCRIPTION:Webinar Career Center - Recrutement à distance : les clés pour réussir !
END:VALARM
END:VEVENT
END:VCALENDAR