BEGIN:VCALENDAR
VERSION:2.0
X-WR-TIMEZONE:Europe/Paris
PRODID:-//Audencia//NONSGML v1.0//EN
CALSCALE:GREGORIAN
BEGIN:VEVENT
SUMMARY:Club Culture & Management - Cycle "phygital" 1/4 : réseaux sociaux - expérience artistique étendue ou culture d'influence ?
DTSTART:20200923T190000
DTEND:20200923T200000
UID:798
DTSTAMP:20260425T205821
LOCATION:
DESCRIPTION:Suite aux récentes annonces gouvernementales, nous avons choisi de vous proposer le premier débat de l'année en ligne et d'attendre des temps plus favorables pour nous rassembler en présentiel.\n \n\nCe mercredi 23 septembre à 19h, nous ouvrons le premier cycle de l'année consacré au "Phygital" par un focus sur les réseaux sociaux.\n \n\nTarif unique à 10€ (gratuit pour les adhérents).\n \n\nDivers formats proposés sur les médias sociaux (stories, vidéos, podcast, etc.) permettent aux acteurs des ICCs de développer leur notoriété, de gagner en considération et de convertir en fonction de leurs objectifs (visites, abonnements, achats). En effet, la simple diffusion de contenus, même de qualité, ne suffit pas à influencer le choix des publics.\n \n\nMettre en place une stratégie d’amplification et d’influence semble indispensable. Parfois des intermédiaires comme des ambassadeurs, des créatifs (influenceurs) s’avèrent nécessaires. Faut-il donc adopter le marketing d’influence ? Quels bénéfices en tirer ? Comment travailler avec cet outil ? Ces nouvelles voix permettent-elles de sortir d’une culture élitiste ?\n \n\nToutes ces questions seront adressées par nos intervenants :\n\n\n	\n	Florence Dupont, Co-fondatrice et Directrice adjointe de Influence4You Agency\n	\n	\n	Amélie Ébongué, Social Content Strategist & Social Entertainment Marketing Specialist\n	\n	\n	Jean Pourrat, Planner stratégique de Influence4You Agency\n	\n	\n	Jacqueline Ngo Mpii, Fondatrice de Little Africa - Cultural Agency & Travel Guide\n	\n\n\n \n\n> En savoir plus et Réserver \n\n \n\n \n\nMODALITÉS PRATIQUES :\n\n\n	\n	Le webinaire démarre à 19h\n	\n\n\n\n	\n	Après inscription, vous recevrez un lien Zoom pour vous connecter au webinaire. Il y aura un temps pour poser des questions aux intervenants après le débat.\n	\n\n\n\n	\n	Tarif unique à 10€. Les personnes ayant déjà réglé leur place en présentiel seront remboursées de la différence. \n	\n\n\n \n\nAu plaisir d'expérimenter avec vous ce premier débat en ligne,\n\n\nL'équipe du Club Culture & Management\n\n
BEGIN:VALARM
ACTION:DISPLAY
TRIGGER:-PT60M
DESCRIPTION:Club Culture & Management - Cycle "phygital" 1/4 : réseaux sociaux - expérience artistique étendue ou culture d'influence ?
END:VALARM
END:VEVENT
END:VCALENDAR