BEGIN:VCALENDAR
VERSION:2.0
X-WR-TIMEZONE:Europe/Paris
PRODID:-//Audencia//NONSGML v1.0//EN
CALSCALE:GREGORIAN
BEGIN:VEVENT
SUMMARY:Conférence/Débat : Pierre Haski
DTSTART:20200922T173000
DTEND:20200922T193000
UID:796
DTSTAMP:20260425T205727
LOCATION:Audencia Atlantic Campus - 8 route de la Jonelière, 44300 Nantes
DESCRIPTION:L’association Isegoria est ravie de reprendre du service pour une nouvelle saison et vous propose de se retrouver pour sa conférence inaugurale de rentrée en présence de Pierre Haski, journaliste, chroniqueur géopolitique et Président de Reporters sans frontières sur le thème « La Chine, entre dictature et nouvelle guerre froide ? »\n\nSPEAKER :\nPierre Haski, journaliste, chroniqueur géopolitique et président de Reporters sans frontières partagera sa vision de la Chine contemporaine qui semble basculer de plus en plus vers la dictature : amnésie générale du massacre de Tian’Anmen, censure, décès en prison du dissident et prix Nobel de la paix Liu Xiaobo sans oublier le tragique génocide de la minorité musulmane Ouïghour, ignoré par la communauté internationale depuis déjà plusieurs années. Enfin, il reviendra sur l’actuelle guerre froide qui oppose d’une manière de plus en plus inquiétante la Chine et les États-Unis. Après des débuts en tant que correspondant de l’AFP en Afrique du Sud, Pierre Haski intègre la rédaction de Libération dans laquelle il devient successivement responsable des rubriques Afrique, Diplomatie, International avant de devenir rédacteur en chef adjoint. En 2000, alors qu’il est correspondant à Pékin, son blog « Mon journal de Chine » est censuré par le régime. Il signera deux livres sur la Chine, dont un en hommage à Liu Xiaobo, intellectuel et dissident chinois, prix Nobel de la paix en 2010.  Pierre Haski anime la chronique quotidienne de géopolitique sur France Inter.  Il succède en 2017 à Éric Chol au poste de président de l’association Reporters sans frontières\n\nVous êtes tous cordialement invités à assister à cette conférence-débat, n’hésitez pas à en faire profiter votre entourage !\nÉvènement gratuit \nInscription obligatoire sur eventbrite.\nDes questions ? Contactez l'adresse events@audencia.com
BEGIN:VALARM
ACTION:DISPLAY
TRIGGER:-PT60M
DESCRIPTION:Conférence/Débat : Pierre Haski
END:VALARM
END:VEVENT
END:VCALENDAR