BEGIN:VCALENDAR
VERSION:2.0
X-WR-TIMEZONE:Europe/Paris
PRODID:-//Audencia//NONSGML v1.0//EN
CALSCALE:GREGORIAN
BEGIN:VEVENT
SUMMARY:Networking in Dublin, Ireland
DTSTART:20171123T183000
DTEND:20171123T210000
UID:79
DTSTAMP:20260425T223846
LOCATION:Trinity Business School, Trinity College Dublin Postgraduate Suite, First Floor TBSI Building 152 – 160 Pearse Street Dublin 2
DESCRIPTION:\n\nAMBA, the Association of MBAs, is organising a networking event.\n\nJoin them in the capital and largest city of the Republic of Ireland, Dublin, on 23 November 2017 for an evening of networking and relationship-building with students and alumni of AMBA-accredited programmes.\n\nRegister for free today >>\nMeeting AMBA on campus will also be a great opportunity to hear brief extracts from exclusive interviews hosted by Andrew Main Wilson (AMBA’s CEO), with CEOs from Unilever, Western Union and the world’s largest Marketing agency WPP. These exclusive interviews will give an insight from world leaders into the issues affecting organisational strategy and performance in today’s market and the impact of this on MBAs and their future career development.\n \n\n\n\n\nLocation: Trinity Business School, Trinity College Dublin\nDate: 23 November 2017\nTime: 18.30 to 21.00\n\nAddress: Postgraduate Suite, First Floor\nTBSI Building\n152 – 160 Pearse Street\nDublin 2\n \n\n\n\n\n\n\n\nThis event is accessible to students or alumni of an AMBA-accredited programme at Audencia, i.e., Executive MBA, EuroMBA, Full-Time MBA or Master in Management (Grande Ecole Programme), but registration is required. Registering as an alum of an AMBA-accredited programme takes only a few minutes.\nThis event is free for AMBA members to attend but registration is required. To register please log on to the Community using the link above.\n\n\n\n\n\n\n\n \n\n\n\n\n\n\nIf you have any queries related to the event please get in touch with:\n\nFemi George\nAMBA Global Events Executive\n+44 (0)20 7246 2671 | f.george@mbaworld.com\n\n\n\n\n\nRead more here 
BEGIN:VALARM
ACTION:DISPLAY
TRIGGER:-PT60M
DESCRIPTION:Networking in Dublin, Ireland
END:VALARM
END:VEVENT
END:VCALENDAR