BEGIN:VCALENDAR
VERSION:2.0
X-WR-TIMEZONE:Europe/Paris
PRODID:-//Audencia//NONSGML v1.0//EN
CALSCALE:GREGORIAN
BEGIN:VEVENT
SUMMARY:Club Marketing & Digital - Workshops de partages de bonnes pratiques
DTSTART:20201020T180000
DTEND:20201020T193000
UID:784
DTSTAMP:20260425T223838
LOCATION:
DESCRIPTION: \n\n\nMardi 20 octobre (18h-19h30) : \nDévelopper sa eReputation, être actif et régulier\n\nElargir son réseau ou rester sélectif ?\nMettre en place une organisation pour être régulier sans céder à l’infobésité\nRédiger des articles, faires des posts, des videos ?\nComment obtenir engager ses communautés ?\n\n \nChers Alumni,\n\nVous disposez certainement d’un profil professionnel sur le réseau LinkedIn, peut-être Twitter, mais vous est-il vraiment utile ?\n\nQue vous soyez en poste, en reconversion professionnelle, recruteur, ou entrepreneur, savez-vous optimiser toutes les possibilités offertes par ce réseau, pour valoriser votre eReputation, toucher et convaincre les personnes clés ? Est-ce que vos publications sont vues ? Avez-vous une stratégie ciblée et une organisation pour être régulier sans y perdre votre temps ?\n\nLe Club Marketing & Digital vous propose une série de rencontres informelles pour optimiser vos profils, partager les bonnes pratiques et meilleurs nouveauté du moment et répondre à vos questions éventuelles.\nEn petits groupes, nous échangerons les clés essentielles pour gagner en efficacité et atteindre vos objectifs grâce à LinkedIn et Twitter.\n\nNouveauté pour cette rentrée, nous vous proposons un programme mensuel avec un thème précis par session, des témoignages et un retour constructif sur le profil de ceux qui le souhaitent.\n \n\nLes prochaines dates à retenir :\n\n\n	\n	Mardi 17 novembre : Social Selling  & Sales Navigator \n	\n	\n	Mardi 15 décembre : Préparer un plan d’actions pour 2021\n	\n\n \n\n=> Inscriptions obligatoires pour recevoir le lien Zoom <=\n\n\nA propos :\n\n\n\n \n\nBrigitte Neveu-Dérotrie (GE 85), dirigeante de Yélen, ateliers, formations personnalisées et conférences sur les réseaux sociaux B2B. Communication digitale, image de marque, contenus et développement d’activité grâce à la communication digitale
BEGIN:VALARM
ACTION:DISPLAY
TRIGGER:-PT60M
DESCRIPTION:Club Marketing & Digital - Workshops de partages de bonnes pratiques
END:VALARM
END:VEVENT
END:VCALENDAR