BEGIN:VCALENDAR
VERSION:2.0
X-WR-TIMEZONE:Europe/Paris
PRODID:-//Audencia//NONSGML v1.0//EN
CALSCALE:GREGORIAN
BEGIN:VEVENT
SUMMARY:Rentrée Digitale #3 : « La Finance et l’IA » – Lancement du nouveau livre blanc FiPlus & Kynapse
DTSTART:20200921T083000
DTEND:20200921T103000
UID:781
DTSTAMP:20260425T205953
LOCATION:
DESCRIPTION:Les directeurs financiers vont jouer un rôle primordial dans les prochains mois et années afin de rendre leur entreprise IA-ready.\n\nFiPlus, le méta-réseau des financiers d’entreprise, s’est associé à Kynapse, un cabinet de conseil en stratégie Data & IA et en transformation digitale pour explorer la notion de “CFO augmenté”.  \n\nDu croisement de ces deux expertises est né un Livre Blanc : « Le CFO augmenté   – regards croisés de praticiens sur l’utilisation de l’Intelligence Artificielle dans les Directions Financières en France ».  Ce Livre Blanc vise à présenter l’état de l’art de l’IA dans les directions financières, l’identification d’opportunités et des retours d’expérience sur les obstacles à appréhender et gérer. \n\nNous avons le plaisir de vous annoncer que la restitution du livre blanc se fera \n\nle 21 septembre 2020 de 8h30 à 10h30 par streaming (9-10h). \n \n\nInformations et Inscriptions ICI\n\n \n\nLa table ronde (9-10h) : \n\nLe CFO augmenté en 2020 : la crise sanitaire comme accélérateur de la transformation IA ?\n\nAvec :\n\n\n	\n	Stéphane MESSIKA (CEO Kynapse)\n	\n	\n	Nadine PICHELOT (CFO EMEA Anaplan)\n	\n	\n	Pauline SAUVAGE (CFO Backmarket)\n	\n	\n	Christophe TRICOT (CEO La Forge.ai)\n	\n	\n	Stéphane VAIS (CFO Talentsoft)\n	\n\n\n\nLa table ronde sera animée par Lise George, Directrice Associée chez Kynapse, et Susanne Liepmann, Présidente de FiPlus.
BEGIN:VALARM
ACTION:DISPLAY
TRIGGER:-PT60M
DESCRIPTION:Rentrée Digitale #3 : « La Finance et l’IA » – Lancement du nouveau livre blanc FiPlus & Kynapse
END:VALARM
END:VEVENT
END:VCALENDAR