BEGIN:VCALENDAR
VERSION:2.0
X-WR-TIMEZONE:Europe/Paris
PRODID:-//Audencia//NONSGML v1.0//EN
CALSCALE:GREGORIAN
BEGIN:VEVENT
SUMMARY:Concours de pitch – Nouvelle promotion Centrale-Audencia-Ensa
DTSTART:20200916T183000
DTEND:20200916T203000
UID:780
DTSTAMP:20260425T205717
LOCATION:
DESCRIPTION:Evénement organisé dans le cadre de NANTES DIGITAL WEEK\n \nLe Mash Up est une association ayant pour mission de promouvoir l’entrepreneuriat auprès des étudiants et de sensibiliser les écosystèmes locaux à l’impact des étudiant·e·s-entrepreneur·e·s sur notre société.\n\nPour Nantes Digital Week 2020, le Mash Up s’associe à l’incubateur Centrale-Audencia-Ensa pour organiser un concours de pitchs qui aura lieu à la fois en présentiel et en distanciel.\n\nNous vous proposons un format totalement original pour cette édition.\nEvénement à distance : https://nantes.mash-up.fr/\nJe m'inscris à cet événement
BEGIN:VALARM
ACTION:DISPLAY
TRIGGER:-PT60M
DESCRIPTION:Concours de pitch – Nouvelle promotion Centrale-Audencia-Ensa
END:VALARM
END:VEVENT
END:VCALENDAR