BEGIN:VCALENDAR
VERSION:2.0
X-WR-TIMEZONE:Europe/Paris
PRODID:-//Audencia//NONSGML v1.0//EN
CALSCALE:GREGORIAN
BEGIN:VEVENT
SUMMARY:Webinar: Innovation in an Age of Uncertainty
DTSTART:20171109T140000
DTEND:20171109T150000
UID:78
DTSTAMP:20260425T205727
LOCATION:Location: Online Time: 14.00 to 15.00 Paris time
DESCRIPTION:\n\nLiving with uncertainty has become our new normal. Whether it’s a surprise election result, rollercoaster stock markets, or competition from disruptors; there is constant change in the world. Though, in recent years, the type of change has evolved. No longer are we faced with classic change management, instead we are in a period of hyper-change, recognised only by the speed at which it happens.\n\nPartly driven by a digital and technological revolution - artificial intelligence, big data and machine learning – and partly driven by the unpredictable economical and political climate; hyper-change isn’t about management. It’s about adaptability; forcing you to do something different. And to look harder for more insight -the problem isn't always in plain sight.\n\nUncertain times will require us to change the way we lead. Change, by its very nature, is uncomfortable.  But there are structures and processes that we can put in place to support us through this change.\n\nNew thinking, adapting, and innovating are the only ways modern day businesses can survive in this new normal. The only way they can sustain, grow, and profit for many years to come. Just consider the journeys of Kodak, Blackberry, and Woolworths over the past decade.\n\nIn this webinar innovation expert ‘Mok’ O’Keeffe will discuss innovation in the age of uncertainty. How do you future-proof yourself before you even think about innovating? How do you bring peers, colleagues and teams along with you on the innovation journey? How can you lead in the innovation age?  What structures and processes can you put in place to support you? And who does it well and what can we learn from them?\n\nView the blog post Innovating In Uncertainty >> by webinar speaker, 'Mok' O'Keeffe.\n\nJoin this exclusive webinar to find out the answers to all these questions and more.\n\nTo register for this free webinar please log on to the AMBA Community >>\n\n \n\n\n\n\n\nLocation: Online\nDate: 09 November 2017\nTime: 13.00 to 14.00\n\n\n\n\n\n\n\n\n \n\n\n\n\n\nThis webinar is accessible to students or alumni of an AMBA-accredited programme at Audencia, i.e., Executive MBA, EuroMBA, Full-Time MBA or Master in Management (Grande Ecole Programme), but registration is required. Registering as an alum of an AMBA-accredited programme takes only a few minutes.\nThis event is free for AMBA members to attend but registration is required. To register please log on to the Community using the link above.\n\n\n\n\n\n\n\n\nIf you have any queries related to the event please get in touch with:\n\n\n\n\n\n\nFemi George\nAMBA Global Events Executive\n+44 (0)20 7246 2671 | f.george@mbaworld.com\n\n\n\n\nRead more  here
BEGIN:VALARM
ACTION:DISPLAY
TRIGGER:-PT60M
DESCRIPTION:Webinar: Innovation in an Age of Uncertainty
END:VALARM
END:VEVENT
END:VCALENDAR