BEGIN:VCALENDAR
VERSION:2.0
X-WR-TIMEZONE:Europe/Paris
PRODID:-//Audencia//NONSGML v1.0//EN
CALSCALE:GREGORIAN
BEGIN:VEVENT
SUMMARY:Promenade virtuelle à travers le digital learning
DTSTART:20200924T170000
DTEND:20200924T200000
UID:779
DTSTAMP:20260425T205732
LOCATION:Audencia Mediacampus – 41 boulevard de la Prairie au Duc, 44200 Nantes
DESCRIPTION:Evénement organisé dans le cadre de NANTES DIGITAL WEEK\n\n5 ateliers immersifs animés par Walter Bonomo, Directeur du service de formation continue de l’Université de Nantes, suivis d’une table ronde avec le directeur d’EdTech France, Rémy Challe : Les formations seront-elles désormais à distance ?\n\nJe m'inscris à cet événement
BEGIN:VALARM
ACTION:DISPLAY
TRIGGER:-PT60M
DESCRIPTION:Promenade virtuelle à travers le digital learning
END:VALARM
END:VEVENT
END:VCALENDAR