BEGIN:VCALENDAR
VERSION:2.0
X-WR-TIMEZONE:Europe/Paris
PRODID:-//Audencia//NONSGML v1.0//EN
CALSCALE:GREGORIAN
BEGIN:VEVENT
SUMMARY:Nantes Tech Usages et pratiques de l’intelligence artificielle dans les Achats et la Supply Chain
DTSTART:20200923T100000
DTEND:20200923T170000
UID:778
DTSTAMP:20260425T205844
LOCATION:Audencia Atlantic Campus – 8 route de la Jonelière, 44300 Nantes
DESCRIPTION:Evénement organisé dans le cadre de NANTES DIGITAL WEEK\n \nAvec l’Intelligence Artificielle (IA), les fonctions Achats et Supply Chain sont en train de franchir un nouveau cap dans leur processus de digitalisation. Au-delà de la gestion des tâches opérationnelles, ces deux fonctions voient aujourd’hui dans les prouesses des technologies IA une réelle opportunité pour se transformer et permettre à l’entreprise d’être plus compétitive. Entre continuité et disruption, ces deux fonctions doivent se réinventer et gérer les différents enjeux de cette transformation digitale.\n\nLors de cette journée, nous ferons le point sur les pratiques d’usage de l’IA dans ces deux fonctions à travers des retours d’expériences, des tables rondes entre expert·e·s présentant différents points de vue (entreprise, éditeur·rice, consultant·e, académique) et des conférencier·ère·s.\n\nJe m'inscris à cet événement
BEGIN:VALARM
ACTION:DISPLAY
TRIGGER:-PT60M
DESCRIPTION:Nantes Tech Usages et pratiques de l’intelligence artificielle dans les Achats et la Supply Chain
END:VALARM
END:VEVENT
END:VCALENDAR