BEGIN:VCALENDAR
VERSION:2.0
X-WR-TIMEZONE:Europe/Paris
PRODID:-//Audencia//NONSGML v1.0//EN
CALSCALE:GREGORIAN
BEGIN:VEVENT
SUMMARY:Intelligence Artificielle : enjeux de sécurité et dilemmes moraux
DTSTART:20200917T173000
DTEND:20200917T190000
UID:777
DTSTAMP:20260425T210203
LOCATION:Audencia Atlantic Campus – 8 route de la Jonelière, 44300 Nantes
DESCRIPTION:Evénement organisé dans le cadre de NANTES DIGITAL WEEK\n \nL’Intelligence Artificielle (IA) se propage chaque jour un peu plus à tous les aspects de notre vie quotidienne et a vite touché le domaine critique de la sécurité. Les pourfendeurs de l’IA s’inquiètent de la prolifération de robots tueurs autonomes, échappant à tout contrôle humain. Du même coup, l’IA semble être une épée de Damoclès au-dessus de la tête d’individus sidérés à l’approche d’une apocalypse.\n\nAu-delà de ces fantasmes, l’IA offre aussi des opportunités inédites pour améliorer la sécurité de nos sociétés. Nous commenterons les possibilités offertes par l’IA en matière de sécurité, les risques mais aussi les enjeux moraux.\n\nLes thèmes abordés seront les suivants :\n\n\n	Qu’est-ce que l’Intelligence Artificielle?\n	Comment est utilisée l’IA en matière de sécurité ?\n	Quels sont les enjeux moraux liés à l’IA ?\n\nJe m'inscris à cet événement
BEGIN:VALARM
ACTION:DISPLAY
TRIGGER:-PT60M
DESCRIPTION:Intelligence Artificielle : enjeux de sécurité et dilemmes moraux
END:VALARM
END:VEVENT
END:VCALENDAR