BEGIN:VCALENDAR
VERSION:2.0
X-WR-TIMEZONE:Europe/Paris
PRODID:-//Audencia//NONSGML v1.0//EN
CALSCALE:GREGORIAN
BEGIN:VEVENT
SUMMARY:Datarama #5. Dataviz, intelligence pour la décision ?
DTSTART:20200923T100000
DTEND:20200923T163000
UID:776
DTSTAMP:20260425T205843
LOCATION:
DESCRIPTION:Evénement co-organisé par Audencia SciencesCom dans le cadre de NANTES DIGITAL WEEK \n \nÀ l’heure de la profusion supposée des données, la visualisation de l’information promet d’offrir des clés de lecture pour une action éclairée et responsable, de la prise de conscience citoyenne stimulée par les médias à la gestion des organisations. Mais ces promesses sont-elles toujours tenues ? Datarama se propose d’explorer cette question avec celles et ceux qui font la dataviz, designers, chercheur·euse·s, communicant·e·s ou journalistes pour cette 5e édition.\n\nInformations complémentaires : www.datarama.design\nEvénement à distance : lien de connexion fourni une fois inscrit·e\nJe m'inscris à l'événement
BEGIN:VALARM
ACTION:DISPLAY
TRIGGER:-PT60M
DESCRIPTION:Datarama #5. Dataviz, intelligence pour la décision ?
END:VALARM
END:VEVENT
END:VCALENDAR