BEGIN:VCALENDAR
VERSION:2.0
X-WR-TIMEZONE:Europe/Paris
PRODID:-//Audencia//NONSGML v1.0//EN
CALSCALE:GREGORIAN
BEGIN:VEVENT
SUMMARY:Nantes Tech Humains et transformation digitale : rôle de la fonction RH ?
DTSTART:20200921T084500
DTEND:20200921T173000
UID:774
DTSTAMP:20260425T205851
LOCATION:
DESCRIPTION:Evénement organisé dans le cadre de NANTES DIGITAL WEEK\n\nL’objectif de cet événement est d’aborder :\n\n\n	D’une part, la digitalisation de la fonction RH\n	D’autre part, l’évolution du rôle de la fonction RH dans l’accompagnement des salarié·e·s en les plaçant au cœur de la transformation digitale de l’entreprise\n\n\nL’événement abordera les enjeux les plus importants :\n\n\n	Identifier les talents et les outils\n	Pérenniser l’engagement\n	Challenger la marque employeur\n	Coopérer plutôt que collaborer\n	Co-créer le Future of work\n\n\nIl sera composé de conférences, retours d’expérience, tables rondes, témoignages et expertises.\nEvénement à distance : lien de connexion fourni une fois inscrit·e\n\nJe m'inscris à cet événement
BEGIN:VALARM
ACTION:DISPLAY
TRIGGER:-PT60M
DESCRIPTION:Nantes Tech Humains et transformation digitale : rôle de la fonction RH ?
END:VALARM
END:VEVENT
END:VCALENDAR