BEGIN:VCALENDAR
VERSION:2.0
X-WR-TIMEZONE:Europe/Paris
PRODID:-//Audencia//NONSGML v1.0//EN
CALSCALE:GREGORIAN
BEGIN:VEVENT
SUMMARY:Agora-Forum Cybersécurité : atelier de découverte interactive
DTSTART:20200918T123000
DTEND:20200918T140000
UID:773
DTSTAMP:20260425T205841
LOCATION:Audencia Atlantic Campus – 8 route de la Jonelière, 44300 Nantes
DESCRIPTION:Evénement organisé dans le cadre de NANTES DIGITAL WEEK\n\nVirus, hameçonnages, pertes de données, vols d’identité, Internet semble une véritable jungle où les cybers criminels profitent de chaque opportunité. Face à ces risques, les internautes peuvent parfois être dépassés par l’évolution technologique et la sophistication grandissante des attaques. En dépit des menaces importantes et croissantes, de nombreuses personnes protègent mal leurs outils électroniques ou leur navigation sur Internet. En effet, le maillon faible face aux menaces cybers provient souvent du comportement humain.\n\nPour traiter de ce sujet brûlant, Audencia vous invite à une conférence-débat intitulée : Agora-Forum Cybersécurité ! Après avoir présenté les résultats d’une étude européenne sur la cybersécurité, un temps d’échanges interactifs permettra de partager les idées des participants avec des étudiants d’Audencia. Puis, des conseils seront donnés aux participants pour améliorer leur propre hygiène informatique.\n\nLes thèmes abordés seront les suivants :\n\n\n	Comment expliquer la faiblesse du comportement de cybersécurité ?\n	Comment peut-on faire face à ces risques ?\n	Quelles sont les solutions d’hygiène informatique faciles à mettre en œuvre ?\n\nJe m'inscris à cet événement
BEGIN:VALARM
ACTION:DISPLAY
TRIGGER:-PT60M
DESCRIPTION:Agora-Forum Cybersécurité : atelier de découverte interactive
END:VALARM
END:VEVENT
END:VCALENDAR