BEGIN:VCALENDAR
VERSION:2.0
X-WR-TIMEZONE:Europe/Paris
PRODID:-//Audencia//NONSGML v1.0//EN
CALSCALE:GREGORIAN
BEGIN:VEVENT
SUMMARY:Entreprendre en 2021 : sommes-nous prêts pour l’entreprise à impact de demain ?
DTSTART:20200902T190000
DTEND:20200902T220000
UID:771
DTSTAMP:20260425T205907
LOCATION:Audencia Atlantic Campus 8 route de la Jonelière, 44300 Nantes
DESCRIPTION:Sommes nous prêts pour l'entreprise à impact de demain ? Ticket for Change Nantes, Audencia, DRO s'associent pour cette soirée d'inspiration.\n \nQuelle est notre vision de l’entreprise de demain ?\n\nAu-delà de générer du profit, les entreprises en 2021 doivent être capables de créer un impact positif pour toutes les parties prenantes : collaborateurs, fournisseurs et partenaires, villes et territoires, investisseurs, associations, planète...\n\nCe ne sera sans doute plus une option : pour durer, l’entreprise devra se renouveler et faire preuve de résilience.\n\nLe défi pour les organisations en transition est d’oser les véritables changements dans les pratiques managériales, les choix stratégiques économiques et technologiques et de construire un nouveau mode de coopération avec leur écosystème.\n\nLe débat, animé par la journaliste Mathilde JOUNOT, fera intervenir les invités suivants :\n\n\n	Emmanuelle DUEZ, Fondatrice de The Boson Project (sous réserve de confirmation)\n	Charlie FELGATE, Vision leader chez Décathlon\n	Lionel FOURNIER, Directeur région Atlantique Harmonie Mutuelle et Président de Dirigeants Responsables de l’Ouest\n	Marie GABORIT (GE 04), Directrice générale de Toovalu, société de pilotage de stratégie RSE et climat\n\n\nSoirée gratuite, sur inscription, co-organisée entre Ticket for Change, Audencia et les Dirigeants Responsables de l'Ouest. Possibilité d'assister en présentiel (nombre de places limitées) ou bien à distance (un lien de connexion vous sera envoyé ultérieurement).\n \n\nJE M'INSCRIS
BEGIN:VALARM
ACTION:DISPLAY
TRIGGER:-PT60M
DESCRIPTION:Entreprendre en 2021 : sommes-nous prêts pour l’entreprise à impact de demain ?
END:VALARM
END:VEVENT
END:VCALENDAR