BEGIN:VCALENDAR
VERSION:2.0
X-WR-TIMEZONE:Europe/Paris
PRODID:-//Audencia//NONSGML v1.0//EN
CALSCALE:GREGORIAN
BEGIN:VEVENT
SUMMARY:TEDxNantes
DTSTART:20200905T203000
DTEND:20200906T003000
UID:770
DTSTAMP:20260425T205732
LOCATION:2 bis Rue du Souvenir Français, 44800 Saint-Herblain
DESCRIPTION:Et si vous viviez un événement unique dans un cadre unique ? C’est un possible !\nAvec son thème inspiré de la citation de Mark Twain : « Ils ne savaient pas que c’était impossible, alors ils l’ont fait », TEDxNantes transforme l’impossible, en possible. Comment ? TEDxNantes 2020 propose de vivre une expérience spectaculaire en plein air : un drive-in innovant et inspirant !\n\nAu programme, neuf intervenants et une expérience en plein air originale et inspirante. En moins de 18 minutes, chacun d’entre eux vont démontrer comment il est possible de changer le monde.\n\nAudencia est partenaire de l'événement TEDxNantes 2020 qui se déroulera le 5 septembre prochain, de 20h30 à 00h30. L'événement aura lieu à La Carrière (Saint-Herblain – à moins de 20 minutes du centre-ville de Nantes).\n\nNous vous rappelons que le format du TEDxNantes est en mode drive-in : vous venez en voiture et passez la soirée dans votre véhicule. Vous n’avez pas de voiture et/ou venez en mode doux (à pied, en vélo) ? Rassurez-vous, TEDxNantes a pensé à vous.\n\nLa billetterie est ouverte ! Prêts pour l'[un]possible TEDxNantes ?\nRetrouvez toutes les informations pratiques pour vous inscrire (programme, billeterie...) ci-dessous :\nInscriptions
BEGIN:VALARM
ACTION:DISPLAY
TRIGGER:-PT60M
DESCRIPTION:TEDxNantes
END:VALARM
END:VEVENT
END:VCALENDAR