BEGIN:VCALENDAR
VERSION:2.0
X-WR-TIMEZONE:Europe/Paris
PRODID:-//Audencia//NONSGML v1.0//EN
CALSCALE:GREGORIAN
BEGIN:VEVENT
SUMMARY:Webinar: Disruption and Volatility in Professional Services
DTSTART:20170927T130000
DTEND:20170927T140000
UID:77
DTSTAMP:20260425T205719
LOCATION:Location: Online Time: 13.00 to 14.00 Paris time
DESCRIPTION:\n\nIn this webinar Ben Kent will discuss the opportunities and challenges for individuals working or hoping to work in the legal, consultancy and accountancy professions.\n\n \n\nHas there ever been a more exciting, and daunting time to work in a professional firm? \n\nDisruptive forces combine to make the future less certain for professional firms. New competitors, with radically different business models, are beginning to take market share, and as a result are recalibrating expectations about the client and adviser relationship. Automation and artificial intelligence raise fundamental questions about the role of professional expertise.\n\nAgenda\n\n1. The disruptive forces reshaping the professions\na. New sources of demand\nb. New competitors\nc. Technology, AI and automation\nd. Shifting client expectations\n\n2. The skills and mindset professionals need to get hired and promoted by professional firms \na. The T-shaped adviser\nb. The 7 habits of commerciality\n \n\nTo register for this free webinar please log on to the AMBA Community >>\n\n\nThe webinar is based on the newly released, Professional Services Leadership Handbook, (Kogan Page).  In preparing for the book we interviewed leaders from a range of professional firms, big and small, including EY, Grant Thornton, Arup, Allen & Overy, Baker Mckenzie and Dentons.\n\nLocation: Online\n\n\n\n\nDate: 27 September 2017\nTime: 13.00 to 14.00 Paris time\n\n \n\n\n\n\n\n\n\n\n\nThis webinar is accessible to students or alumni of an AMBA-accredited programme at Audencia, i.e., Executive MBA, EuroMBA, MBA in Responsible Management or Master in Management (Grande Ecole Programme), but registration is required. Registering as an alum of an AMBA-accredited programme takes only a few minutes.\nThis event is free for AMBA members to attend but registration is required. To register please log on to the Community using the link above.\n\n\n\n\n\n\n\n\nIf you have any queries related to the event please get in touch with:\n\n\n\n\n\n\nFemi George\nAMBA Global Events Executive\n+44 (0)20 7246 2671 | f.george@mbaworld.com\n\n\n\n\n\nRead more here\n\n\n\n\n
BEGIN:VALARM
ACTION:DISPLAY
TRIGGER:-PT60M
DESCRIPTION:Webinar: Disruption and Volatility in Professional Services
END:VALARM
END:VEVENT
END:VCALENDAR