BEGIN:VCALENDAR
VERSION:2.0
X-WR-TIMEZONE:Europe/Paris
PRODID:-//Audencia//NONSGML v1.0//EN
CALSCALE:GREGORIAN
BEGIN:VEVENT
SUMMARY:Lunch talk for French Grandes Ecoles Singapore alumni
DTSTART:20200729T123000
DTEND:20200729T133000
UID:768
DTSTAMP:20260425T205813
LOCATION:
DESCRIPTION:Dear alumni,\n\nFrench Grandes Ecoles Singapore Alumni is pleased to invite you on Wednesday 29 July (12:30-13:30) to our 6th lunch talk with French Alumni leaders.\n \nGestion de carriere : entre passion & mobilite internationale\n\nWe will have the pleasure to welcome two leaders who will share their journey (en français) on five continents and their career advice:\n \n\n	Philippe Hoffman, Senior Vice President of Operations China & South East Asia - Club Med\n	Stephane Fabregoul, Managing Director - JW Marriott Singapore South Beach - St Regis Singapore\n\nJoin us to learn and share insightful points of view about this topic.\n \nRegister here\n\n==> The link to the webinar will be sent on the day of the event.\n\nThanks, and see you soon.\n\nFrench Grandes Ecoles Singapore Alumni Team\nFind us on Linkedin: https://www.linkedin.com/groups/4650987/\nfgesingapore@gmail.com\n\n \n
BEGIN:VALARM
ACTION:DISPLAY
TRIGGER:-PT60M
DESCRIPTION:Lunch talk for French Grandes Ecoles Singapore alumni
END:VALARM
END:VEVENT
END:VCALENDAR