BEGIN:VCALENDAR
VERSION:2.0
X-WR-TIMEZONE:Europe/Paris
PRODID:-//Audencia//NONSGML v1.0//EN
CALSCALE:GREGORIAN
BEGIN:VEVENT
SUMMARY:Catch Up Event Luxembourg
DTSTART:20200729T190000
DTEND:20200729T220000
UID:767
DTSTAMP:20260425T205908
LOCATION:3, Place des Rotondes — L‑2448 Luxembourg-Bonnevoie
DESCRIPTION:Catch-Up in Luxembourg\n\nWe would like to catch up, so please do not hesitate to join and enjoy a drink with your fellow Audencia Alumni !\nCome and join Thomas Magnier (GE 16) on Wednesday 29th of July at Rotondes as of 7PM.\nWe hope to see plenty of you there!
BEGIN:VALARM
ACTION:DISPLAY
TRIGGER:-PT60M
DESCRIPTION:Catch Up Event Luxembourg
END:VALARM
END:VEVENT
END:VCALENDAR