BEGIN:VCALENDAR
VERSION:2.0
X-WR-TIMEZONE:Europe/Paris
PRODID:-//Audencia//NONSGML v1.0//EN
CALSCALE:GREGORIAN
BEGIN:VEVENT
SUMMARY:Workshop for French Grandes Ecoles Singapore alumni
DTSTART:20200720T120000
DTEND:20200720T130000
UID:766
DTSTAMP:20260425T205952
LOCATION:
DESCRIPTION:Chers Alumni,\n\nRegister now for our workshop on Zoom (en français):\n \n\n"Votre carrière post COVID-19"\n\n\nFrench Grandes Ecoles Singapore Alumni is pleased to invite you on Monday 20 July (12:00-13:00) to our first workshop with French Alumni leaders. We will have the pleasure to welcome career management experts who will answer your questions: be the actor of your career again, prepare for your next development (transition, change, return from expatriation, etc.)\n\n\n	Yves Pascal Pelcener, Senior Executive Coach - Executive Transform International - Dauphine Alumni\n	Emmanuel White, Executive Search - WeLinkTalent Singapore and exclusive partner of IESF - emlyon alumni\n\n\nJoin us to learn and share insightful points of view about this topic.\nThis Workshop is limited to 20 participants, depending on requests we may organise a second workshop later on.\n \n\nPlease register here\n\n\n==> The link to the Webinar will be sent on the day of the event.\n\nThanks, and see you soon.\nFrench Grandes Ecoles Singapore Alumni Team\nFind us on Linkedin: https://www.linkedin.com/groups/4650987/\nfgesingapore@gmail.com\n \n\n
BEGIN:VALARM
ACTION:DISPLAY
TRIGGER:-PT60M
DESCRIPTION:Workshop for French Grandes Ecoles Singapore alumni
END:VALARM
END:VEVENT
END:VCALENDAR