BEGIN:VCALENDAR
VERSION:2.0
X-WR-TIMEZONE:Europe/Paris
PRODID:-//Audencia//NONSGML v1.0//EN
CALSCALE:GREGORIAN
BEGIN:VEVENT
SUMMARY:Webinar: Quelles connexions entre la comptabilité financière et le non-financier ?
DTSTART:20200709T130000
DTEND:20200709T140000
UID:765
DTSTAMP:20260425T205724
LOCATION:
DESCRIPTION:Quelles connexions entre la comptabilité financière et le non-financier ?\n\nLa comptabilité n’a pas cessé de se réinventer dans différents contextes et à différentes périodes. Depuis les années 1970, et la sonnette d’alarme tirée par le Club de Rome, nous ne cessons de questionner sa pertinence et sa capacité à rendre compte d’un monde qui fait face à ses limites environnementales, mais aussi sociales. Aujourd’hui, le développement durable, mais aussi l’immatériel, sont les deux nouvelles frontières de la comptabilité.\nIl est le temps de prendre de nouveau du recul sur la façon dont les chercheurs, les praticiens et les organismes normatifs ont abordé la question de la connexion entre l’environnement, le social et l’immatériel et la comptabilité financière depuis près de  50 ans.\n\nCe webinaire proposé par la chaire Performance Globale Multi-Capitaux d'Audencia sera l'occasion de présenter notre travail de recherche qui a consisté à former un panorama structuré d’un grand nombre d’initiatives dans 3 grands chapitres.\n \nGratuit sur inscription
BEGIN:VALARM
ACTION:DISPLAY
TRIGGER:-PT60M
DESCRIPTION:Webinar: Quelles connexions entre la comptabilité financière et le non-financier ?
END:VALARM
END:VEVENT
END:VCALENDAR