BEGIN:VCALENDAR
VERSION:2.0
X-WR-TIMEZONE:Europe/Paris
PRODID:-//Audencia//NONSGML v1.0//EN
CALSCALE:GREGORIAN
BEGIN:VEVENT
SUMMARY:Webinar: Owning your career trajectory
DTSTART:20200907T130000
DTEND:20200907T140000
UID:764
DTSTAMP:20260425T205843
LOCATION:
DESCRIPTION:Owning your career trajectory\n\nDate: Monday 7 September 2020\nTime: 13:00-14:00 PARIS TIME\nSuccessful careers don’t just happen, they are planned.\n\nIn this webinar Lola Bejide will explore the various applicable methods which will help you to plan the career you want, whilst learning how to navigate through the bumps and detours that will occur.\n\nWe will also take a look at the fundamental steps required to map out career trajectories, such as: career roadmap, MSN (Mentor, Sponsor, Networking) strategies, career progression analysis, turning obstacles into opportunities. By the end of the webinar attendees will have the skills and knowledge to:\n \n\n	Map out their own career trajectory using a 5-year career roadmap,\n	Understand and utilise the external support mechanisms to grow within chosen career.\n	Adapt a new perspective that enables obstacles to be treated as opportunities for self-development and demonstration of professional agility.\n\nYou are the only one responsible for your career, stay in driver’s seat and learn how to navigate your trajectory.\n\nAbout the speaker\nLola Bejide has over 20 years of Corporate Senior Business Management experience within the Investment Banking sector. During this time, Lola managed global teams and C-Suite executives. After gaining significant insight and extensive experience, Lola founded Soluman Consultancy, which equips and empowers individuals to reach their full potential while firmly being in the driver’s seat of their career trajectory. \n\n \nTo join the webinar\nREGISTER HERE\n \n\nDid you graduate from an AMBA-accredited programme at Audencia?\nThis webinar is accessible to students or alumni of an AMBA-accredited programme at Audencia, i.e., Executive MBA, EuroMBA, Full-Time MBA or Master in Management (Grande Ecole Programme), but registration is required. Registering as an alum of an AMBA-accredited programme takes only a few minutes.\nThis event is free for AMBA members to attend but registration is required using the link above.
BEGIN:VALARM
ACTION:DISPLAY
TRIGGER:-PT60M
DESCRIPTION:Webinar: Owning your career trajectory
END:VALARM
END:VEVENT
END:VCALENDAR