BEGIN:VCALENDAR
VERSION:2.0
X-WR-TIMEZONE:Europe/Paris
PRODID:-//Audencia//NONSGML v1.0//EN
CALSCALE:GREGORIAN
BEGIN:VEVENT
SUMMARY:Catch-up in Sydney, Australia
DTSTART:20200801T130000
DTEND:20200801T150000
UID:763
DTSTAMP:20260425T210004
LOCATION:The Squire’s Landing T5 Circular Quay West  The Rocks Sydney
DESCRIPTION:It's been a while!\n\nSydneysiders are about to have the opportunity to gather and catch up. Come and join Aurelien (MCI 12) for a get-together in the heart of Sydney on Saturday 1 August from 1pm at:\n \nThe Squire’s Landing\nT5 Circular Quay West \nThe Rocks\nSydney
BEGIN:VALARM
ACTION:DISPLAY
TRIGGER:-PT60M
DESCRIPTION:Catch-up in Sydney, Australia
END:VALARM
END:VEVENT
END:VCALENDAR