BEGIN:VCALENDAR
VERSION:2.0
X-WR-TIMEZONE:Europe/Paris
PRODID:-//Audencia//NONSGML v1.0//EN
CALSCALE:GREGORIAN
BEGIN:VEVENT
SUMMARY:Club Marketing & Digital - Atelier bonnes pratiques - Comment optimiser sa visibilité professionnelle sur LinkedIn ?
DTSTART:20200708T180000
DTEND:20200708T193000
UID:761
DTSTAMP:20260425T205903
LOCATION:
DESCRIPTION:Chers alumni,\n\nLes événements récents vous ont sûrement incité à réinventer votre manière de travailler, de communiquer et de recruter sur les réseaux sociaux.\n\nLes réseaux sociaux tels que LinkedIn, ainsi que les outils de téléconférences et webmeetings ont pris une place inédite, et sont devenus incontournables.\n\nRejoignez-nous mercredi 8 juillet de 18h à 19h30 pour un nouveau workshop, pour témoigner, partager les meilleurs pratiques du moment, vous aider à prendre en main ces outils mais également anticiper la rentrée prochaine.\n\nNous échangerons nos  clés essentielles pour être efficace et développer votre visibilité professionnelle grâce aux réseaux sociaux :\n- Renforcer votre image : quelle stratégie pour vous différencier ?\n- Développer votre communauté et votre réseau,\n- Quels contenus partager et relayer ? Identifier et planifier vos outils de communication phares (vidéos, posts, articles, curation…)\n\nNous ferons également un diagnostic rapide du profil de ceux qui le souhaitent.\n\n\nAlors, inscrivez-vous nombreux !\n\nCe webinar se fera via Zoom :\nhttps://us02web.zoom.us/j/81418574226
BEGIN:VALARM
ACTION:DISPLAY
TRIGGER:-PT60M
DESCRIPTION:Club Marketing & Digital - Atelier bonnes pratiques - Comment optimiser sa visibilité professionnelle sur LinkedIn ?
END:VALARM
END:VEVENT
END:VCALENDAR