BEGIN:VCALENDAR
VERSION:2.0
X-WR-TIMEZONE:Europe/Paris
PRODID:-//Audencia//NONSGML v1.0//EN
CALSCALE:GREGORIAN
BEGIN:VEVENT
SUMMARY:Afterwork in Geneva, Switzerland
DTSTART:20200701T190000
DTEND:20200701T220000
UID:760
DTSTAMP:20260425T205812
LOCATION:Qafe Guidoline Rue des Paquis 24  Genève
DESCRIPTION:Pour notre premier Afterwork - Aftercovid, rendez vous le mercredi 1er juillet - 19h00\nQafe Guidoline Rue des Paquis 24 - Genève\n\nEt pourquoi pas un maillot de bain pour se rafraichir les idées aux Bains des Paquis?\n#libéré#délivré\nAu plaisir de tous vous retrouver, \nINSCRIPTION\n\nRodolphe (Ambassadeur Alumni)\n 
BEGIN:VALARM
ACTION:DISPLAY
TRIGGER:-PT60M
DESCRIPTION:Afterwork in Geneva, Switzerland
END:VALARM
END:VEVENT
END:VCALENDAR