BEGIN:VCALENDAR
VERSION:2.0
X-WR-TIMEZONE:Europe/Paris
PRODID:-//Audencia//NONSGML v1.0//EN
CALSCALE:GREGORIAN
BEGIN:VEVENT
SUMMARY:Webinar: Standing out from the crowd - creating your own development journey
DTSTART:20171019T130000
DTEND:20171019T140000
UID:76
DTSTAMP:20260425T223814
LOCATION:Location: Online Time: 13.00 to 14.00 Paris time
DESCRIPTION:\n \n\n\n\nA huge amount of focus is placed on finding the right organisation, profiling yourself and being successful through selection processes. But once you’re in, then what?\n\nWith the rise of alternative views on talent development, structured career paths, defined progression and traditional high potential programmes are no longer guaranteed.\n\nDuring this exclusive webinar, we will explore how you can take responsibility for driving your own development, creating your own leadership purpose and working towards the career and life you’ve defined.\n\nThe webinar will be presented by Laura Wigley, Global Director of Learning and Talent, Dorchester Collection.\n\nTo register for this free webinar please log on to the AMBA Community >>\n\n\n\n\n\nLocation: Online\nDate: 19 October 2017\nTime: 13.00 to 14.00 Paris time\n\n \n\n\n\n\n\nThis webinar is accessible to students or alumni of an AMBA-accredited programme at Audencia, i.e., Executive MBA, EuroMBA, Full-Time MBA or Master in Management (Grande Ecole Programme), but registration is required. Registering as an alum of an AMBA-accredited programme takes only a few minutes.\nThis event is free for AMBA members to attend but registration is required. To register please log on to the Community using the link above.\n\n\n\n\n\n\n\n\nIf you have any queries related to the event please get in touch with:\n\n\n\n\n\n\nFemi George\nAMBA Global Events Executive\n+44 (0)20 7246 2671 | f.george@mbaworld.com\n\n\n\n\nRead more here\n
BEGIN:VALARM
ACTION:DISPLAY
TRIGGER:-PT60M
DESCRIPTION:Webinar: Standing out from the crowd - creating your own development journey
END:VALARM
END:VEVENT
END:VCALENDAR