BEGIN:VCALENDAR
VERSION:2.0
X-WR-TIMEZONE:Europe/Paris
PRODID:-//Audencia//NONSGML v1.0//EN
CALSCALE:GREGORIAN
BEGIN:VEVENT
SUMMARY:Webinar : Market fit VS Pivot - Le cas Peek'in
DTSTART:20200617T120000
DTEND:20200617T130000
UID:759
DTSTAMP:20260425T205856
LOCATION:
DESCRIPTION:L'incubateur Centrale Audencia Ensa organise son premier webinaire avec Jerome Pasquet, fondateur de PeeK'​in ??️ & 10VINS.??\n\n?️RDV demain à 12h pour un webinaire sur le thème "Market fit VS Pivot : le cas Peek'in" à destination des enseignants, #étudiants et #alumni des écoles Ecole centrale de Nantes, Audencia et ECOLE NATIONALE SUPERIEURE D'ARCHITECTURE DE NANTES intéressés par l'#entrepreneuriat.\n\n?Infos et inscription ⤵️\n?https://bit.ly/2BaeuK5
BEGIN:VALARM
ACTION:DISPLAY
TRIGGER:-PT60M
DESCRIPTION:Webinar : Market fit VS Pivot - Le cas Peek'in
END:VALARM
END:VEVENT
END:VCALENDAR