BEGIN:VCALENDAR
VERSION:2.0
X-WR-TIMEZONE:Europe/Paris
PRODID:-//Audencia//NONSGML v1.0//EN
CALSCALE:GREGORIAN
BEGIN:VEVENT
SUMMARY:General assembly of Audencia Alumni
DTSTART:20200630T200000
DTEND:20200630T220000
UID:758
DTSTAMP:20260425T205846
LOCATION:
DESCRIPTION:Dear graduates,\n\nTomorrow, Tuesday June 30, 2020 at 8:00 pm, will take place our Audencia Alumni General Meeting 100% online.\n\nIn order to participate in this one, you will find below the link to the Teams meeting that will be used :\nJoin the Microsoft Teams meeting\n\nThe agenda of this general meeting will be as follows:\n- Highlights and activities for graduates in 2019\n- Feedback on the satisfaction survey and on the financial results of the year\n- Presentation of the 2020 action plan and its adjustments following the health context\n- Review of the "Daring Together" mechanism of the 2021-2025 strategic plan\n- Presentation of candidates to the Board of Directors\n\nVoting will only take place online via the Euro-vote platform: a solution hosted in France, accessible on all media and complying with Data Privacy regulations.\n\n- You can vote until June 30, 9:15 pm, at the following address: https://audencia-auth.secure-vote.org\n- Only members who have paid their dues will be able to take part in the vote.\n- In order to vote, log in with the email address you used to log in to Together\n\nLooking forward to seeing you online at our general meeting!\n\nIf you would like more information, you can contact us via audenciaalumni@audencia.com.\n\nBest regards, \n\nFlavie Lorre\n\nGE 98, President of Audencia Alumni
BEGIN:VALARM
ACTION:DISPLAY
TRIGGER:-PT60M
DESCRIPTION:General assembly of Audencia Alumni
END:VALARM
END:VEVENT
END:VCALENDAR