BEGIN:VCALENDAR
VERSION:2.0
X-WR-TIMEZONE:Europe/Paris
PRODID:-//Audencia//NONSGML v1.0//EN
CALSCALE:GREGORIAN
BEGIN:VEVENT
SUMMARY:Assemblée générale de l'association Audencia Alumni
DTSTART:20200630T200000
DTEND:20200630T220000
UID:757
DTSTAMP:20260425T205812
LOCATION:
DESCRIPTION:Chères diplômées, chers diplômés,\n\nDemain, mardi 30 juin 2020 à 20h00, se tiendra notre assemblée générale Audencia Alumni 100% en ligne.\n\nAfin de participer à celle-ci, vous trouverez ci-dessous le lien vers la réunion Teams qui sera utilisé :\nRejoindre la réunion Microsoft Teams\n \nL’ordre du jour de cette assemblée générale sera le suivant :\n\n	Temps forts et activités à destination des diplômés lors de l’année 2019\n	Retour sur l’enquête de satisfaction et sur le bilan financier de l’année\n	Présentation du plan d’actions 2020 et ses ajustements suite au contexte sanitaire\n	Retour sur le dispositif « Daring Together » du plan stratégique 2021-2025\n	Présentation des candidats au conseil d’administration\n\nLe vote se fera uniquement en ligne par la plateforme Euro-vote : solution hébergée en France, accessible sur tous les supports et respectant les réglementations en Data Privacy.\n•          Vous pouvez voter jusqu’au 30 juin 21h15, à l’adresse suivante : https://audencia-auth.secure-vote.org\n•          Seuls les adhérents à jour de cotisation pourront prendre part au vote\n•          Afin de voter, identifiez-vous avec l’adresse mail utilisée pour vous connecter à Together\nAu plaisir de vous retrouver en ligne lors de notre assemblée générale !\nSi vous souhaitez de plus amples informations, vous pouvez prendre contact avec nous via audenciaalumni@audencia.com.\n\nFlavie LORRE (GE 98)\nPrésidente de l'association Audencia Alumni
BEGIN:VALARM
ACTION:DISPLAY
TRIGGER:-PT60M
DESCRIPTION:Assemblée générale de l'association Audencia Alumni
END:VALARM
END:VEVENT
END:VCALENDAR