BEGIN:VCALENDAR
VERSION:2.0
X-WR-TIMEZONE:Europe/Paris
PRODID:-//Audencia//NONSGML v1.0//EN
CALSCALE:GREGORIAN
BEGIN:VEVENT
SUMMARY:Cycle de conférences - Les enjeux d’une gouvernance innovante en temps de crise
DTSTART:20200618T170000
DTEND:20200618T190000
UID:754
DTSTAMP:20260425T205723
LOCATION:
DESCRIPTION:APIA (Administrateurs Professionnels Indépendants Associés) et Audencia Business School vous propose un cycle de 3 conférences numériques gratuites autour d’une thématique d’actualité, à savoir \n« Les enjeux d’une gouvernance innovante en temps de crise »\nL’objectif de ce cycle de conférences est de vous apporter des réponses opérationnelles et de challenger vos pratiques de gouvernance.\n\nLa 1ère conférence aura lieu le jeudi 18 juin 2020 de 17h à 19h et aura pour thématique :\n\n« Stratégie, Logistique, Risques systémiques : Impacts Covid19 sur la gouvernance » \n\nElle sera introduite par Yves Brochard, Président APIA Grand Ouest et articulée autour de 2 grands sujets : \n\n\n	La gouvernance, risques et stratégies : quelles sont les composantes du puzzle de « l’après-coronavirus » ? avec : \n	Makram CHEMANGUI : Directeur Général Adjoint Audencia, Professeur\n	Bruno HUG DE LARAUZE : Président Idea Groupe\n\nQuel sera le paysage concurrentiel, après des mois de confinement et de fermeture des frontières ? La crise va-t-elle abattre des barrières à l'entrée qui nous protégeaient de la concurrence ? Ou ouvrir de nouvelles opportunités ? \n \nQue restera-t-il de nos ressources et compétences stratégiques ? Certaines seront toujours là, mais auront-elles toujours la même valeur ? Faudra-t-il acquérir de nouvelles ressources ou développer de nouvelles compétences pour saisir ces opportunités ?\n \n\n	Retour d’expérience COVID-19 et réflexions sur la gestion des risques et opportunités avec : \n	Arnaud POUPART-LAFARGE : Ancien dirigeant industriel, consultant indépendant et membre APIA. \n\nQuels sont les risques systémiques de demain et comment les convertir en opportunités ? Il reviendra sur le rôle d’un comité des risques et l’appréciation des risques systémiques.\n\nUn temps d’échanges vous sera dédié afin que vous puissiez poser toutes vos questions. \nInscriptions limitées et obligatoires afin de disposer du lien du live !\n\nJe m'inscris
BEGIN:VALARM
ACTION:DISPLAY
TRIGGER:-PT60M
DESCRIPTION:Cycle de conférences - Les enjeux d’une gouvernance innovante en temps de crise
END:VALARM
END:VEVENT
END:VCALENDAR