BEGIN:VCALENDAR
VERSION:2.0
X-WR-TIMEZONE:Europe/Paris
PRODID:-//Audencia//NONSGML v1.0//EN
CALSCALE:GREGORIAN
BEGIN:VEVENT
SUMMARY:Apéro virtuel Audencia SciencesCom avec Sylvie Chancelier et Olivier Pohardy
DTSTART:20200702T180000
DTEND:20200702T190000
UID:753
DTSTAMP:20260425T205858
LOCATION:
DESCRIPTION: \n\nWHAT'S UP?\n\nMoment de convivialité et de partage\nentre diplômés d’Audencia SciencesCom !\n\n- inscription obligatoire -\n\n\n \nSylvie Chancelier, Directrice du programme, et Olivier Pohardy, Responsable de spécialisations, ont le plaisir de vous retrouver à l’occasion d’un apéro virtuel inédit jeudi 2 juillet de 18h à 19h.\n\nUne belle occasion d’échanger entre vous quel que soit votre lieu géographique, de partager vos idées et de poser vos questions !\n \n \n\nSylvie Chancelier\n\nDirectrice du programme\n \n\n\n\nOlivier Pohardy\n\nResponsable spécialisations \n\nCommunication des entreprises et des institutions,\n\nCommunication digitale et contenus\n\n\nPour assister à cette conversation virtuelle :\n\nRejoindre l’apéro virtuel ‘What’s up?’ Audencia SciencesCom\n\n(Contact : audenciaalumni@audencia.com)\n\n\n \n\n 
BEGIN:VALARM
ACTION:DISPLAY
TRIGGER:-PT60M
DESCRIPTION:Apéro virtuel Audencia SciencesCom avec Sylvie Chancelier et Olivier Pohardy
END:VALARM
END:VEVENT
END:VCALENDAR