BEGIN:VCALENDAR
VERSION:2.0
X-WR-TIMEZONE:Europe/Paris
PRODID:-//Audencia//NONSGML v1.0//EN
CALSCALE:GREGORIAN
BEGIN:VEVENT
SUMMARY:Career Center Webinar : Identifier ses ressources personnelles face à l’incertitude
DTSTART:20200630T180000
DTEND:20200630T193000
UID:752
DTSTAMP:20260425T223736
LOCATION:
DESCRIPTION:La période actuelle est une expérience grandeur réelle de notre capacité à vivre avec l’incertitude.\nUne chose est sûre : savoir traverser des périodes de forte instabilité est possible et s’apprend !\nAu travers de ce webinaire, venez découvrir comment identifier vos propres ressources et développer la résilience comme soft skill supplémentaire.\n\n \nCette session se tiendra via Microsoft Teams - Un lien de connexion vous sera adressé le jour même.\n \n\nInscription par mail à tboitel@audencia.com\nen indiquant le nom de la session & la date\n \n\n\n\n \n\n 
BEGIN:VALARM
ACTION:DISPLAY
TRIGGER:-PT60M
DESCRIPTION:Career Center Webinar : Identifier ses ressources personnelles face à l’incertitude
END:VALARM
END:VEVENT
END:VCALENDAR