BEGIN:VCALENDAR
VERSION:2.0
X-WR-TIMEZONE:Europe/Paris
PRODID:-//Audencia//NONSGML v1.0//EN
CALSCALE:GREGORIAN
BEGIN:VEVENT
SUMMARY:Soirée VIP : 30 ans du Triathlon
DTSTART:20170916T203000
DTEND:20170916T235900
UID:75
DTSTAMP:20260425T205721
LOCATION:La Baule Restaurant le Nossy Be - face au 15 boulevard Darlu
DESCRIPTION: \n\nAudencia Alumni a le plaisir de vous inviter à la soirée cocktail privée du Triathlon Audencia La Baule le 16 septembre 2017.\nRetrouvez l'équipe Alumni dès 20h30 au restaurant « Nossy Be » sur la plage de La Baule, face au 15 boulevard Darlu.\n \n\nINSCRIPTION SUR INVITATION SEULEMENT
BEGIN:VALARM
ACTION:DISPLAY
TRIGGER:-PT60M
DESCRIPTION:Soirée VIP : 30 ans du Triathlon
END:VALARM
END:VEVENT
END:VCALENDAR