BEGIN:VCALENDAR
VERSION:2.0
X-WR-TIMEZONE:Europe/Paris
PRODID:-//Audencia//NONSGML v1.0//EN
CALSCALE:GREGORIAN
BEGIN:VEVENT
SUMMARY:Career Center Webinar : Les clés d’une démarche réseau réussie !
DTSTART:20200616T180000
DTEND:20200616T193000
UID:747
DTSTAMP:20260425T205838
LOCATION:
DESCRIPTION:Qui n’a jamais entendu parler de Networking ou de démarche réseau ?\nVous souhaitez développer votre réseau ? Initier une démarche de networking ?\n\nQue ce soit pour trouver un job, obtenir des informations, bénéficier de conseils de professionnels…. Le réseau est essentiel pour saisir des opportunités !\n\nRencontrez Julien Bavencoffe, consultant Career Center qui vous apportera toutes les clés pour améliorer votre manière d'aborder la démarche réseau en partageant avec vous des conseils simples, émanant de professionnels du sujet tels que Daniel Porot et Steve Dalton. \n \nCette session se tiendra via Microsoft Teams. Un lien de connexion vous sera adressé le jour même.\n \n\nInscription par mail à tboitel@audencia.com \nen indiquant le nom de la session et la date\n\n\n
BEGIN:VALARM
ACTION:DISPLAY
TRIGGER:-PT60M
DESCRIPTION:Career Center Webinar : Les clés d’une démarche réseau réussie !
END:VALARM
END:VEVENT
END:VCALENDAR